BEGIN:VCALENDAR
VERSION:2.0
METHOD:PUBLISH
PRODID:-//Causal Sarl//LionsBase Calendar 5.0.x-dev//DE
TZID:Europe/Zurich
BEGIN:VEVENT
UID:24451_20231201@wien-johann-strau.lions.at
DTSTAMP:20260419T124007Z
DTSTART:20231201T160000Z
DTEND:20231201T200000Z
ORGANIZER:LC Neunkirchen Schwarzatal öffentlich
LOCATION:Neunkirchen\, Hauptplatz\, Hauptplatz\, 2620 Neunkirchen
SUMMARY:Lions-Punschstand am Neunkirchner Hauptplatz
DESCRIPTION:
END:VEVENT
END:VCALENDAR
